BEGIN:VCALENDAR
VERSION:2.0
PRODID:-//Association Astronomique de la Vallée - ECPv6.15.20//NONSGML v1.0//EN
CALSCALE:GREGORIAN
METHOD:PUBLISH
X-WR-CALNAME:Association Astronomique de la Vallée
X-ORIGINAL-URL:https://aav-astro.fr
X-WR-CALDESC:Évènements pour Association Astronomique de la Vallée
REFRESH-INTERVAL;VALUE=DURATION:PT1H
X-Robots-Tag:noindex
X-PUBLISHED-TTL:PT1H
BEGIN:VTIMEZONE
TZID:Europe/Paris
BEGIN:DAYLIGHT
TZOFFSETFROM:+0100
TZOFFSETTO:+0200
TZNAME:CEST
DTSTART:20230326T010000
END:DAYLIGHT
BEGIN:STANDARD
TZOFFSETFROM:+0200
TZOFFSETTO:+0100
TZNAME:CET
DTSTART:20231029T010000
END:STANDARD
BEGIN:DAYLIGHT
TZOFFSETFROM:+0100
TZOFFSETTO:+0200
TZNAME:CEST
DTSTART:20240331T010000
END:DAYLIGHT
BEGIN:STANDARD
TZOFFSETFROM:+0200
TZOFFSETTO:+0100
TZNAME:CET
DTSTART:20241027T010000
END:STANDARD
BEGIN:DAYLIGHT
TZOFFSETFROM:+0100
TZOFFSETTO:+0200
TZNAME:CEST
DTSTART:20250330T010000
END:DAYLIGHT
BEGIN:STANDARD
TZOFFSETFROM:+0200
TZOFFSETTO:+0100
TZNAME:CET
DTSTART:20251026T010000
END:STANDARD
END:VTIMEZONE
BEGIN:VEVENT
DTSTART;TZID=Europe/Paris:20241101T140000
DTEND;TZID=Europe/Paris:20241104T140000
DTSTAMP:20260423T174513
CREATED:20240605T074442Z
LAST-MODIFIED:20241110T174109Z
UID:3596-1730469600-1730728800@aav-astro.fr
SUMMARY:Camp Aubette
DESCRIPTION:
URL:https://aav-astro.fr/event/camp-aubette-9/
CATEGORIES:Camp astro
END:VEVENT
BEGIN:VEVENT
DTSTART;TZID=Europe/Paris:20241112T210000
DTEND;TZID=Europe/Paris:20241112T223000
DTSTAMP:20260423T174513
CREATED:20240907T164741Z
LAST-MODIFIED:20241110T174050Z
UID:3640-1731445200-1731450600@aav-astro.fr
SUMMARY:Assemblée Générale 2024
DESCRIPTION:
URL:https://aav-astro.fr/event/assemblee-generale-2024/
LOCATION:Mondétour\, Maison de quartier Pierre Mendès France. Place Pierre Lucas. Mondétour\, 91400 Orsay\, France
CATEGORIES:Réunion
END:VEVENT
BEGIN:VEVENT
DTSTART;TZID=Europe/Paris:20241119T210000
DTEND;TZID=Europe/Paris:20241119T220000
DTSTAMP:20260423T174513
CREATED:20241113T101645Z
LAST-MODIFIED:20241209T165953Z
UID:3721-1732050000-1732053600@aav-astro.fr
SUMMARY:Début des Ateliers Imagerie Planétaire
DESCRIPTION:Bonjour\, \nMardi 19/11/2024 nous échangerons en visio\, sur vos attentes en matière d’imagerie planétaire. \nLa visio sera sur le lien ci-dessous à partir de 21h00. \nhttps://meet.jit.si/ATELIER-AAV \nBon ciel à tous ! \nPhilippe JAMIN
URL:https://aav-astro.fr/event/debut-des-ateliers-imagerie-planetaire/
CATEGORIES:Atelier,Atelier Imagerie Planétaire,Ateliers Imagerie
END:VEVENT
BEGIN:VEVENT
DTSTART;TZID=Europe/Paris:20241129T140000
DTEND;TZID=Europe/Paris:20241202T140000
DTSTAMP:20260423T174513
CREATED:20240605T074535Z
LAST-MODIFIED:20241110T174033Z
UID:3598-1732888800-1733148000@aav-astro.fr
SUMMARY:Camp Aubette
DESCRIPTION:
URL:https://aav-astro.fr/event/camp-aubette-10/
CATEGORIES:Camp astro
END:VEVENT
END:VCALENDAR